BEGIN:VCALENDAR
VERSION:2.0
PRODID:-//The Institute of Meat - ECPv6.13.0//NONSGML v1.0//EN
CALSCALE:GREGORIAN
METHOD:PUBLISH
X-WR-CALNAME:The Institute of Meat
X-ORIGINAL-URL:https://instituteofmeat.org
X-WR-CALDESC:Events for The Institute of Meat
REFRESH-INTERVAL;VALUE=DURATION:PT1H
X-Robots-Tag:noindex
X-PUBLISHED-TTL:PT1H
BEGIN:VTIMEZONE
TZID:Europe/London
BEGIN:DAYLIGHT
TZOFFSETFROM:+0000
TZOFFSETTO:+0100
TZNAME:BST
DTSTART:20250330T010000
END:DAYLIGHT
BEGIN:STANDARD
TZOFFSETFROM:+0100
TZOFFSETTO:+0000
TZNAME:GMT
DTSTART:20251026T010000
END:STANDARD
END:VTIMEZONE
BEGIN:VEVENT
DTSTART;VALUE=DATE:20250803
DTEND;VALUE=DATE:20250809
DTSTAMP:20260424T090116
CREATED:20250116T120941Z
LAST-MODIFIED:20250521T120821Z
UID:3933-1754179200-1754697599@instituteofmeat.org
SUMMARY:71st ICoMST - International Congress of Meat Science and Technology
DESCRIPTION:Real meat\, real care\nWe are pleased to welcome you to the 71st International Congress of Meat Science and Technology (ICoMST)\, which will be held at the Auditori Palau de Congressos of Girona (Spain). The city of Girona and its surroundings have plenty of places of natural\, historical and cultural interest that will delight visitors. They will also be able to enjoy the country’s rich and varied gastronomic tradition. \n 
URL:https://instituteofmeat.org/event/71st-icomst-international-congress-of-meat-science-and-technology/
LOCATION:Girona\, Catalonia\, Girona\, Spain
ATTACH;FMTTYPE=image/png:https://instituteofmeat.org/wp-content/uploads/2025/01/IRTA_logo_R.png
END:VEVENT
BEGIN:VEVENT
DTSTART;VALUE=DATE:20250725
DTEND;VALUE=DATE:20250726
DTSTAMP:20260424T090116
CREATED:20250521T102406Z
LAST-MODIFIED:20250521T144348Z
UID:4067-1753401600-1753487999@instituteofmeat.org
SUMMARY:Beef Education Day
DESCRIPTION:On Friday 25th July 2025 the IOM has linked up with one of our endorsed processors to host a “Beef Education Day” at  their research and development farm in Staffordshire. The day will consist of the following; \n\nFarm tour\, showing the process of how the cattle are reared and the efficiencies developed along the way\nSustainability. An insight into how carbon reductions are being monitored\nA butchery demonstration\nTraditional knife sharpening and opportunities to have a go yourself\nBurger making demo and an opportunity to partake with a competition /judging\nCooking demo where the burgers made on the day will be cooked and tasted by all.\n\nThere will be several Members present around the farm that will be able to provide additional information where appropriate. Please register your interest as places are limited and a formal invitation will be sent beginning of July. Please share the details of this FREE event with others in the meat industry\, they are eligible to attend with an IoM Member. This is a huge opportunity to further develop your knowledge on Beef and also to network with the other Members to gain an understanding of the vast areas of opportunity available within the meat industry that can aid your future development and career opportunities. \n\n\n\n\nRegister your interest with shorne@instituteofmeat.org
URL:https://instituteofmeat.org/event/beef-education-day/
LOCATION:Staffordshire\, United Kingdom
ATTACH;FMTTYPE=image/png:https://instituteofmeat.org/wp-content/uploads/2025/05/Beef-Education-Day-e1747826536729.png
ORGANIZER;CN="IoM":MAILTO:shorne@instituteofmeat.org
END:VEVENT
END:VCALENDAR